BEGIN:VCALENDAR
PRODID:-//eluceo/ical//2.0/EN
VERSION:2.0
CALSCALE:GREGORIAN
BEGIN:VEVENT
UID:d8c5cc0efd726c7c8ae6a4a9300c47d6
DTSTAMP:20260421T092531Z
SUMMARY:Summit fundur vegna vefs
DESCRIPTION:
URL:https://rotary1360.is/is/agenda/show/3653
DTSTART;TZID=Iceland:20220308T200000
DTEND;TZID=Iceland:20220308T210000
LOCATION:Netfundur\n
CATEGORIES:Rotary
END:VEVENT
BEGIN:VTIMEZONE
TZID:Iceland
BEGIN:STANDARD
DTSTART:20220308T200000
TZNAME:GMT
TZOFFSETTO:+0000
TZOFFSETFROM:+0000
END:STANDARD
END:VTIMEZONE
END:VCALENDAR
