BEGIN:VCALENDAR
PRODID:-//eluceo/ical//2.0/EN
VERSION:2.0
CALSCALE:GREGORIAN
BEGIN:VEVENT
UID:0f3e7a7a7979612f4496e48cff82fa38
DTSTAMP:20260421T100807Z
SUMMARY:Umdæmisþing Rótarý 2023
DESCRIPTION:
URL:https://rotary1360.is/is/agenda/show/4704
DTSTART;TZID=Iceland:20230818T180000
DTEND;TZID=Iceland:20230819T235000
LOCATION:Íþróttahúsið á Sauðárkróki
CATEGORIES:Rotary
END:VEVENT
BEGIN:VTIMEZONE
TZID:Iceland
BEGIN:STANDARD
DTSTART:20230818T180000
TZNAME:GMT
TZOFFSETTO:+0000
TZOFFSETFROM:+0000
END:STANDARD
END:VTIMEZONE
END:VCALENDAR
